BEGIN:VCALENDAR
VERSION:2.0
PRODID:-//MOL MAGSAYSAY Maritime Academy - ECPv6.15.20//NONSGML v1.0//EN
CALSCALE:GREGORIAN
METHOD:PUBLISH
X-WR-CALNAME:MOL MAGSAYSAY Maritime Academy
X-ORIGINAL-URL:https://www.mmma.edu.ph
X-WR-CALDESC:Events for MOL MAGSAYSAY Maritime Academy
REFRESH-INTERVAL;VALUE=DURATION:PT1H
X-Robots-Tag:noindex
X-PUBLISHED-TTL:PT1H
BEGIN:VTIMEZONE
TZID:UTC
BEGIN:STANDARD
TZOFFSETFROM:+0000
TZOFFSETTO:+0000
TZNAME:UTC
DTSTART:20240101T000000
END:STANDARD
END:VTIMEZONE
BEGIN:VEVENT
DTSTART;VALUE=DATE:20250625
DTEND;VALUE=DATE:20250626
DTSTAMP:20260421T124027
CREATED:20240702T065516Z
LAST-MODIFIED:20240702T065516Z
UID:899-1750809600-1750895999@www.mmma.edu.ph
SUMMARY:International Seafarer's Day
DESCRIPTION:
URL:https://www.mmma.edu.ph/event/international-seafarers-day/
CATEGORIES:MMMA Important Dates
END:VEVENT
END:VCALENDAR