BEGIN:VCALENDAR
VERSION:2.0
PRODID:-//MOL MAGSAYSAY Maritime Academy - ECPv6.15.20//NONSGML v1.0//EN
CALSCALE:GREGORIAN
METHOD:PUBLISH
X-WR-CALNAME:MOL MAGSAYSAY Maritime Academy
X-ORIGINAL-URL:https://www.mmma.edu.ph
X-WR-CALDESC:Events for MOL MAGSAYSAY Maritime Academy
REFRESH-INTERVAL;VALUE=DURATION:PT1H
X-Robots-Tag:noindex
X-PUBLISHED-TTL:PT1H
BEGIN:VTIMEZONE
TZID:UTC
BEGIN:STANDARD
TZOFFSETFROM:+0000
TZOFFSETTO:+0000
TZNAME:UTC
DTSTART:20240101T000000
END:STANDARD
END:VTIMEZONE
BEGIN:VEVENT
DTSTART;VALUE=DATE:20250406
DTEND;VALUE=DATE:20250407
DTSTAMP:20260419T195132
CREATED:20240702T064639Z
LAST-MODIFIED:20240702T064639Z
UID:880-1743897600-1743983999@www.mmma.edu.ph
SUMMARY:Math Festival
DESCRIPTION:
URL:https://www.mmma.edu.ph/event/math-festival/
CATEGORIES:Academic Calendar
END:VEVENT
BEGIN:VEVENT
DTSTART;VALUE=DATE:20250410
DTEND;VALUE=DATE:20250417
DTSTAMP:20260419T195132
CREATED:20240702T064738Z
LAST-MODIFIED:20240702T070615Z
UID:882-1744243200-1744847999@www.mmma.edu.ph
SUMMARY:Midterm Exam\, 2nd Semester
DESCRIPTION:
URL:https://www.mmma.edu.ph/event/midterm-exam-2nd-semester/
CATEGORIES:Academic Calendar
END:VEVENT
BEGIN:VEVENT
DTSTART;VALUE=DATE:20250426
DTEND;VALUE=DATE:20250427
DTSTAMP:20260419T195132
CREATED:20240702T064845Z
LAST-MODIFIED:20240702T064845Z
UID:884-1745625600-1745711999@www.mmma.edu.ph
SUMMARY:GAD Orientation
DESCRIPTION:
URL:https://www.mmma.edu.ph/event/gad-orientation/
CATEGORIES:Academic Calendar
END:VEVENT
END:VCALENDAR